BEGIN:VCALENDAR
VERSION:2.0
PRODID:-//wp-events-plugin.com//7.2.3.1//EN
BEGIN:VEVENT
UID:107720@charlottesaa.net
DTSTART;TZID=America/New_York:20480930T193000
DTEND;TZID=America/New_York:20480930T203000
DTSTAMP:20250424T001250Z
URL:https://charlottesaa.net/events/wednesday-night-lambda-group-2048-09-3
 0/
SUMMARY:Wednesday Night Lambda Group - LGBTQ+ and Friends
DESCRIPTION:LGBTQ+ and Friends\nFor more information about the Lambda meeti
 ng\, including getting the Zoom information\, please TEXT or Call (980) 28
 1-0118.\n&nbsp\;\n\nSecondary contact: If you are unable to reach anyone y
 ou can text/call 704-999-9510\n\n&nbsp\;
CATEGORIES:Meetings
LOCATION:http://charlottesaa.net
END:VEVENT
BEGIN:VTIMEZONE
TZID:America/New_York
X-LIC-LOCATION:America/New_York
BEGIN:DAYLIGHT
DTSTART:20480308T030000
TZOFFSETFROM:-0500
TZOFFSETTO:-0400
TZNAME:EDT
END:DAYLIGHT
END:VTIMEZONE
END:VCALENDAR