BEGIN:VCALENDAR
VERSION:2.0
PRODID:-//wp-events-plugin.com//7.2.3.1//EN
BEGIN:VEVENT
UID:98982@charlottesaa.net
DTSTART;TZID=America/New_York:20490119T120000
DTEND;TZID=America/New_York:20490119T130000
DTSTAMP:20240507T004824Z
URL:https://charlottesaa.net/events/tuesday-noon-uptown-2049-01-19/
SUMMARY:Tuesday Noon Uptown
DESCRIPTION:In Person: \n\nFree parking is available in the TransAmerica Sq
 uare parking deck across 7th Street from St. Peter’s Episcopal Church (t
 he church address is 115 W 7th St\, Charlotte\, NC 28202\, look for the bi
 g blue “P”). If you park there\, the ticket machine will provide a tic
 ket to be validated at St. Peter’s in order to exit the deck at no charg
 e. Parking validation machines and ticket “chasers” to use for payment
  upon exiting the deck are available in two locations at St. Peter’s: No
 rth Tryon Street Tower Room and 7th Street Parish House Reception Lobby. I
 n case of difficulty upon exiting the parking deck\, there is a call butto
 n on the ticket machine.\n\nThe door to enter the church is on 7th St acro
 ss from parking TransAmerica parking deck\, up the stairs. This door stay
 s locked so please arrive on time for entry.  Go up the stairs\, left dow
 n the hall until it ends and another left.  Meeting is in the Parlor room
  on the left.  If late and can't get in please text Chris at 513-885-7152
 .\n\n&nbsp\;\n\nBy Phone:\n\nDial 605-313-5890\, enter access code 476769#
CATEGORIES:Meetings
LOCATION:St. Peter's Episcopal Church\,  115 W 7th St\, Charlotte\, NC\, 28
 202\, United States
GEO:35.229639;-80.840244
X-APPLE-STRUCTURED-LOCATION;VALUE=URI;X-ADDRESS= 115 W 7th St\, Charlotte\,
  NC\, 28202\, United States;X-APPLE-RADIUS=100;X-TITLE=St. Peter's Episcop
 al Church:geo:35.229639,-80.840244
END:VEVENT
BEGIN:VTIMEZONE
TZID:America/New_York
X-LIC-LOCATION:America/New_York
BEGIN:STANDARD
DTSTART:20481101T010000
TZOFFSETFROM:-0400
TZOFFSETTO:-0500
TZNAME:EST
END:STANDARD
END:VTIMEZONE
END:VCALENDAR