BEGIN:VCALENDAR
VERSION:2.0
PRODID:-//wp-events-plugin.com//7.2.3.1//EN
BEGIN:VEVENT
UID:101900@charlottesaa.net
DTSTART;TZID=America/New_York:20490119T183000
DTEND;TZID=America/New_York:20490119T200000
DTSTAMP:20230122T231517Z
URL:https://charlottesaa.net/events/tuesday-night-north-charlotte-2049-01-
 19/
SUMMARY:Tuesday Night North Charlotte
DESCRIPTION:
CATEGORIES:Meetings
LOCATION:Mosaic Church\, 10624 Metromont Pkwy\, Charlotte\, NC\, 28269\, Un
 ited States
GEO:35.353353;-80.839076
X-APPLE-STRUCTURED-LOCATION;VALUE=URI;X-ADDRESS=10624 Metromont Pkwy\, Char
 lotte\, NC\, 28269\, United States;X-APPLE-RADIUS=100;X-TITLE=Mosaic Churc
 h:geo:35.353353,-80.839076
END:VEVENT
BEGIN:VTIMEZONE
TZID:America/New_York
X-LIC-LOCATION:America/New_York
BEGIN:STANDARD
DTSTART:20481101T010000
TZOFFSETFROM:-0400
TZOFFSETTO:-0500
TZNAME:EST
END:STANDARD
END:VTIMEZONE
END:VCALENDAR