BEGIN:VCALENDAR
VERSION:2.0
PRODID:-//wp-events-plugin.com//7.2.3.1//EN
BEGIN:VEVENT
UID:113267@charlottesaa.net
DTSTART;TZID=America/New_York:20270105T183000
DTEND;TZID=America/New_York:20270105T200000
DTSTAMP:20230329T185240Z
URL:https://charlottesaa.net/events/tuesday-night-ladies-alpha-group-2027-
 01-05/
SUMMARY:Tuesday Night Ladies Alpha Group - Fort Mill
DESCRIPTION:Meeting in Room 209
CATEGORIES:Meetings
LOCATION:St Philip Neri Catholic Church\, 292 Munn Road East\, Fort Mill\, 
 SC\, 29715\, United States
GEO:35.016798;-80.96647
X-APPLE-STRUCTURED-LOCATION;VALUE=URI;X-ADDRESS=292 Munn Road East\, Fort M
 ill\, SC\, 29715\, United States;X-APPLE-RADIUS=100;X-TITLE=St Philip Neri
  Catholic Church:geo:35.016798,-80.96647
END:VEVENT
BEGIN:VTIMEZONE
TZID:America/New_York
X-LIC-LOCATION:America/New_York
BEGIN:STANDARD
DTSTART:20261101T010000
TZOFFSETFROM:-0400
TZOFFSETTO:-0500
TZNAME:EST
END:STANDARD
END:VTIMEZONE
END:VCALENDAR