BEGIN:VCALENDAR
VERSION:2.0
PRODID:-//wp-events-plugin.com//7.2.3.1//EN
BEGIN:VEVENT
UID:115326@charlottesaa.net
DTSTART;TZID=America/New_York:20260521T183000
DTEND;TZID=America/New_York:20260521T200000
DTSTAMP:20250111T151906Z
URL:https://charlottesaa.net/events/thursday-night-morrisville-2026-05-21/
SUMMARY:Thursday Night Mooresville
DESCRIPTION:Meeting in Room B 201
CATEGORIES:Meetings
LOCATION:Williamson's Chapel UMC Church\, 575 Brawley School Rd\, Mooresvil
 le\, NC\, 28117\, United States
GEO:35.583759;-80.873149
X-APPLE-STRUCTURED-LOCATION;VALUE=URI;X-ADDRESS=575 Brawley School Rd\, Moo
 resville\, NC\, 28117\, United States;X-APPLE-RADIUS=100;X-TITLE=Williamso
 n's Chapel UMC Church:geo:35.583759,-80.873149
END:VEVENT
BEGIN:VTIMEZONE
TZID:America/New_York
X-LIC-LOCATION:America/New_York
BEGIN:DAYLIGHT
DTSTART:20260308T030000
TZOFFSETFROM:-0500
TZOFFSETTO:-0400
TZNAME:EDT
END:DAYLIGHT
END:VTIMEZONE
END:VCALENDAR