BEGIN:VCALENDAR
VERSION:2.0
PRODID:-//wp-events-plugin.com//7.2.3.1//EN
BEGIN:VEVENT
UID:115215@charlottesaa.net
DTSTART;TZID=America/New_York:20260423T183000
DTEND;TZID=America/New_York:20260423T200000
DTSTAMP:20251120T005306Z
URL:https://charlottesaa.net/events/thursday-night-mens-meeting-conover-20
 26-04-23/
SUMMARY:Thursday Night Men's Meeting - Conover
DESCRIPTION:For more information\, contact 828-962-5212
CATEGORIES:Meetings
LOCATION:Christ Church - Fairgrove\, 800 Fairgrove Church Rd SE\, Conover\,
  NC\, 28613\, United States
GEO:35.712227;-81.26537
X-APPLE-STRUCTURED-LOCATION;VALUE=URI;X-ADDRESS=800 Fairgrove Church Rd SE\
 , Conover\, NC\, 28613\, United States;X-APPLE-RADIUS=100;X-TITLE=Christ C
 hurch - Fairgrove:geo:35.712227,-81.26537
END:VEVENT
BEGIN:VTIMEZONE
TZID:America/New_York
X-LIC-LOCATION:America/New_York
BEGIN:DAYLIGHT
DTSTART:20260308T030000
TZOFFSETFROM:-0500
TZOFFSETTO:-0400
TZNAME:EDT
END:DAYLIGHT
END:VTIMEZONE
END:VCALENDAR