BEGIN:VCALENDAR
VERSION:2.0
PRODID:-//wp-events-plugin.com//7.2.3.1//EN
BEGIN:VEVENT
UID:114395@charlottesaa.net
DTSTART;TZID=America/New_York:20270311T190000
DTEND;TZID=America/New_York:20270311T201500
DTSTAMP:20250413T232416Z
URL:https://charlottesaa.net/events/thursday-night-in-depth-2-2027-03-11/
SUMMARY:Thursday Night In Depth
DESCRIPTION:In-depth sex addiction recovery focused on the AA Big Book.\n
CATEGORIES:Meetings
LOCATION:Good Shepherd Church\, 13110 Moss Road\, Charlotte\, NC\, 28203\, 
 United States
GEO:35.115358;-80.963371
X-APPLE-STRUCTURED-LOCATION;VALUE=URI;X-ADDRESS=13110 Moss Road\, Charlotte
 \, NC\, 28203\, United States;X-APPLE-RADIUS=100;X-TITLE=Good Shepherd Chu
 rch:geo:35.115358,-80.963371
END:VEVENT
BEGIN:VTIMEZONE
TZID:America/New_York
X-LIC-LOCATION:America/New_York
BEGIN:STANDARD
DTSTART:20261101T010000
TZOFFSETFROM:-0400
TZOFFSETTO:-0500
TZNAME:EST
END:STANDARD
END:VTIMEZONE
END:VCALENDAR