BEGIN:VCALENDAR
VERSION:2.0
PRODID:-//wp-events-plugin.com//7.2.3.1//EN
BEGIN:VEVENT
UID:114349@charlottesaa.net
DTSTART;TZID=America/New_York:20260423T190000
DTEND;TZID=America/New_York:20260423T201500
DTSTAMP:20250413T232416Z
URL:https://charlottesaa.net/events/thursday-night-in-depth-2-2026-04-23/
SUMMARY:Thursday Night In Depth
DESCRIPTION:In-depth sex addiction recovery focused on the AA Big Book.\n
CATEGORIES:Meetings
LOCATION:Good Shepherd Church\, 13110 Moss Road\, Charlotte\, NC\, 28203\, 
 United States
GEO:35.115358;-80.963371
X-APPLE-STRUCTURED-LOCATION;VALUE=URI;X-ADDRESS=13110 Moss Road\, Charlotte
 \, NC\, 28203\, United States;X-APPLE-RADIUS=100;X-TITLE=Good Shepherd Chu
 rch:geo:35.115358,-80.963371
END:VEVENT
BEGIN:VTIMEZONE
TZID:America/New_York
X-LIC-LOCATION:America/New_York
BEGIN:DAYLIGHT
DTSTART:20260308T030000
TZOFFSETFROM:-0500
TZOFFSETTO:-0400
TZNAME:EDT
END:DAYLIGHT
END:VTIMEZONE
END:VCALENDAR