BEGIN:VCALENDAR
VERSION:2.0
PRODID:-//wp-events-plugin.com//7.2.3.1//EN
BEGIN:VEVENT
UID:112658@charlottesaa.net
DTSTART;TZID=America/New_York:20260423T190000
DTEND;TZID=America/New_York:20260423T200000
DTSTAMP:20240507T223336Z
URL:https://charlottesaa.net/events/thursday-night-alpha-group-2026-04-23/
SUMMARY:Thursday Night Alpha Group
DESCRIPTION:In Person\n\nPark in the front lot and use the main entrance. 
  The meeting room is 25\, down the hall to the left.\n\nNewcomer's Welcome
  Packet\n\nVia Zoom\n\nJoin Zoom Meetinghttps://zoom.us/j/99449788681?pwd=
 NDFocHpTZ1lkUXc1eE5Sc1JBLzUxdz09Meeting ID: 994 4978 8681Passcode: serenit
 yOne tap mobile+19292056099\,\,99449788681#\,\,\,\,*75663059# US (New York
 )+13017158592\,\,99449788681#\,\,\,\,*75663059# US (Washington DC)Dial by 
 your location        +1 929 205 6099 US (New York)        +1 301 7
 15 8592 US (Washington DC)        +1 309 205 3325 US        +1 312
  626 6799 US (Chicago)        +1 646 931 3860 US        +1 719 359
  4580 US        +1 253 215 8782 US (Tacoma)        +1 346 248 7799
  US (Houston)        +1 360 209 5623 US        +1 386 347 5053 US
         +1 507 473 4847 US        +1 564 217 2000 US        +1
  669 444 9171 US        +1 669 900 6833 US (San Jose)        +1 68
 9 278 1000 USMeeting ID: 994 4978 8681Passcode: 75663059Find your local nu
 mber: https://zoom.us/u/acnMDawITb
CATEGORIES:Meetings
LOCATION:Providence Road Church of Christ\, 4900 Providence Rd\, Charlotte\
 , NC\, 28226\, United States
GEO:35.14751;-80.792831
X-APPLE-STRUCTURED-LOCATION;VALUE=URI;X-ADDRESS=4900 Providence Rd\, Charlo
 tte\, NC\, 28226\, United States;X-APPLE-RADIUS=100;X-TITLE=Providence Roa
 d Church of Christ:geo:35.14751,-80.792831
END:VEVENT
BEGIN:VTIMEZONE
TZID:America/New_York
X-LIC-LOCATION:America/New_York
BEGIN:DAYLIGHT
DTSTART:20260308T030000
TZOFFSETFROM:-0500
TZOFFSETTO:-0400
TZNAME:EDT
END:DAYLIGHT
END:VTIMEZONE
END:VCALENDAR