BEGIN:VCALENDAR
VERSION:2.0
PRODID:-//wp-events-plugin.com//7.2.3.1//EN
BEGIN:VEVENT
UID:112085@charlottesaa.net
DTSTART;TZID=America/New_York:20260423T073000
DTEND;TZID=America/New_York:20260423T083000
DTSTAMP:20230920T130155Z
URL:https://charlottesaa.net/events/thursday-am-meeting-2026-04-23/
SUMMARY:Thursday AM Meeting
DESCRIPTION:Meet in the trailer at the back of the church property\n\n\n\n
CATEGORIES:Meetings
LOCATION:Providence Road Church of Christ - Trailer\, 4900 Providence Rd\, 
 Charlotte\, NC\, 28203\, Charlotte\, United States
GEO:35.14751;-80.792831
X-APPLE-STRUCTURED-LOCATION;VALUE=URI;X-ADDRESS=4900 Providence Rd\, Charlo
 tte\, NC\, 28203\, Charlotte\, United States;X-APPLE-RADIUS=100;X-TITLE=Pr
 ovidence Road Church of Christ - Trailer:geo:35.14751,-80.792831
END:VEVENT
BEGIN:VTIMEZONE
TZID:America/New_York
X-LIC-LOCATION:America/New_York
BEGIN:DAYLIGHT
DTSTART:20260308T030000
TZOFFSETFROM:-0500
TZOFFSETTO:-0400
TZNAME:EDT
END:DAYLIGHT
END:VTIMEZONE
END:VCALENDAR