BEGIN:VCALENDAR
VERSION:2.0
PRODID:-//wp-events-plugin.com//7.2.3.1//EN
BEGIN:VEVENT
UID:114817@charlottesaa.net
DTSTART;TZID=America/New_York:20271219T200000
DTEND;TZID=America/New_York:20271219T210000
DTSTAMP:20250915T165442Z
URL:https://charlottesaa.net/events/sunday-night-virtual-meeting-2-2027-12
 -19/
SUMMARY:Sunday Night Virtual Meeting
DESCRIPTION:
CATEGORIES:Meetings
LOCATION:https://us06web.zoom.us/j/83330477431?pwd=LyvNyHPvrUeFXr9sengaOusa
 hHREo8.1
END:VEVENT
BEGIN:VTIMEZONE
TZID:America/New_York
X-LIC-LOCATION:America/New_York
BEGIN:STANDARD
DTSTART:20271107T010000
TZOFFSETFROM:-0400
TZOFFSETTO:-0500
TZNAME:EST
END:STANDARD
END:VTIMEZONE
END:VCALENDAR