BEGIN:VCALENDAR
VERSION:2.0
PRODID:-//wp-events-plugin.com//7.2.3.1//EN
BEGIN:VEVENT
UID:97439@charlottesaa.net
DTSTART;TZID=America/New_York:20470610T200000
DTEND;TZID=America/New_York:20470610T210000
DTSTAMP:20230122T230850Z
URL:https://charlottesaa.net/events/monday-night-in-waxhaw-2047-06-10/
SUMMARY:Monday Night in Waxhaw
DESCRIPTION:
CATEGORIES:Meetings
LOCATION:The Meeting Place\, 209 West So. Main Street\, Waxhaw\, NC\, 28173
 \, United States
GEO:34.924431;-80.745108
X-APPLE-STRUCTURED-LOCATION;VALUE=URI;X-ADDRESS=209 West So. Main Street\, 
 Waxhaw\, NC\, 28173\, United States;X-APPLE-RADIUS=100;X-TITLE=The Meeting
  Place:geo:34.924431,-80.745108
END:VEVENT
BEGIN:VTIMEZONE
TZID:America/New_York
X-LIC-LOCATION:America/New_York
BEGIN:DAYLIGHT
DTSTART:20470310T030000
TZOFFSETFROM:-0500
TZOFFSETTO:-0400
TZNAME:EDT
END:DAYLIGHT
END:VTIMEZONE
END:VCALENDAR