BEGIN:VCALENDAR
VERSION:2.0
PRODID:-//wp-events-plugin.com//7.2.3.1//EN
BEGIN:VEVENT
UID:95250@charlottesaa.net
DTSTART;TZID=America/New_York:20330613T190000
DTEND;TZID=America/New_York:20330613T200000
DTSTAMP:20230122T230504Z
URL:https://charlottesaa.net/events/monday-night-alpha-group-2033-06-13/
SUMMARY:Monday Night Alpha Group
DESCRIPTION:Enter the church by parking lot door on Shenandoah Ave\nThe mee
 ting room is in the basement down the stairs at the end of the hall.
CATEGORIES:Meetings
LOCATION:Watershed Charlotte\, 2101 Shenandoah Ave\, Charlotte\, NC\, 28205
 \, United States
GEO:35.21659;-80.811955
X-APPLE-STRUCTURED-LOCATION;VALUE=URI;X-ADDRESS=2101 Shenandoah Ave\, Charl
 otte\, NC\, 28205\, United States;X-APPLE-RADIUS=100;X-TITLE=Watershed Cha
 rlotte:geo:35.21659,-80.811955
END:VEVENT
BEGIN:VTIMEZONE
TZID:America/New_York
X-LIC-LOCATION:America/New_York
BEGIN:DAYLIGHT
DTSTART:20330313T030000
TZOFFSETFROM:-0500
TZOFFSETTO:-0400
TZNAME:EDT
END:DAYLIGHT
END:VTIMEZONE
END:VCALENDAR