BEGIN:VCALENDAR
VERSION:2.0
PRODID:-//wp-events-plugin.com//7.2.3.1//EN
BEGIN:VEVENT
UID:111556@charlottesaa.net
DTSTART;TZID=America/New_York:20261207T190000
DTEND;TZID=America/New_York:20261207T200000
DTSTAMP:20260330T184919Z
URL:https://charlottesaa.net/events/monday-beta-group-lake-wylie-sc-2-2026
 -12-07/
SUMMARY:Monday Beta Group – Lake Wylie SC
DESCRIPTION:2nd floor\, St. Michael room\n\nStep/Tradition topics and check
 -ins.\n\nFor more information contact:\n\n980-785-3535
CATEGORIES:Meetings
LOCATION:All Saints Catholic Church\, 530 Highway 274\, Lake Wylie\, SC\, 2
 9710\, United States
GEO:35.133028;-81.079998
X-APPLE-STRUCTURED-LOCATION;VALUE=URI;X-ADDRESS=530 Highway 274\, Lake Wyli
 e\, SC\, 29710\, United States;X-APPLE-RADIUS=100;X-TITLE=All Saints Catho
 lic Church:geo:35.133028,-81.079998
END:VEVENT
BEGIN:VTIMEZONE
TZID:America/New_York
X-LIC-LOCATION:America/New_York
BEGIN:STANDARD
DTSTART:20261101T010000
TZOFFSETFROM:-0400
TZOFFSETTO:-0500
TZNAME:EST
END:STANDARD
END:VTIMEZONE
END:VCALENDAR