BEGIN:VCALENDAR
VERSION:2.0
PRODID:-//wp-events-plugin.com//7.2.3.1//EN
BEGIN:VEVENT
UID:109249@charlottesaa.net
DTSTART;TZID=America/New_York:20500114T183000
DTEND;TZID=America/New_York:20500114T200000
DTSTAMP:20230123T012055Z
URL:https://charlottesaa.net/events/friday-fort-mill-2050-01-14/
SUMMARY:Friday Fort Mill
DESCRIPTION:Lower floor in the basement of the new sanctuary: Room A
CATEGORIES:Meetings
LOCATION:St Philip Neri Catholic Church\, 292 Munn Road East\, Fort Mill\, 
 SC\, 29715\, United States
GEO:35.016798;-80.96647
X-APPLE-STRUCTURED-LOCATION;VALUE=URI;X-ADDRESS=292 Munn Road East\, Fort M
 ill\, SC\, 29715\, United States;X-APPLE-RADIUS=100;X-TITLE=St Philip Neri
  Catholic Church:geo:35.016798,-80.96647
END:VEVENT
BEGIN:VTIMEZONE
TZID:America/New_York
X-LIC-LOCATION:America/New_York
BEGIN:STANDARD
DTSTART:20491107T010000
TZOFFSETFROM:-0400
TZOFFSETTO:-0500
TZNAME:EST
END:STANDARD
END:VTIMEZONE
END:VCALENDAR